Workbook

Sheet Part A
A1: Form-REG-3
A2: CHARTERED ACCOUNTANT’S CERTIFICATE
A3: (To be submitted at the time of Registration of Project, Withdrawal of Money from Separate Account and Submission of Quarterly Progress Report)
A5: No. Date:-
A6: Information as on ___________
A8: Subject: Certificate of amount incurred for Construction and Development of the Project ____________ with registration number ___________situate in Khasra No/ Plot no ___________ demarcated by its boundaries (latitude-__________ and longitude-_________ of the end points) ____________ to the North __________to the South__________to the East__________to the West of __________Tehsil- __________Competent/Development authority_ ___________, District- _______PIN-__________admeasuring document area__________ s.q.mts. area being developed by ___________UPRERAPRM______ having Separate A/c No. ________ in _______ Bank.
A11: PART-A
C12: Rs.in lacs | D12: Rs. In lacs | E12: Rs. In lacs | F12: Rs. In lacs
A13: S.No. | B13: Particulars | C13: Total Estimated Cost | D13: Amount incurred till last quarter | E13: Amount incurred during the quarter | F13: Amount incurred till now
A14: 1 | B14: 2 | C14: 3 | D14: 4 | E14: 5 | F14: 6
A15: 1 | B15: Land Cost
B16: (a) Acquisition cost of land and legal costs on land transaction:
B17: (a.1) For Project Estimation Purpose
B18: i - In case of acquisition through Purchase, actual purchase price or the latest the DM circle rate of the subject land, whichever is higher. | C18: 0
B19: ii- In case of acquisition through Joint Development Agreement with land owner, the consideration as specified in the Joint Development Agreement or the DM Circle Rate of the subject land on the date of application of registration in U.P. RERA, whichever is higher. | C19: 0
B20: iii- In case of land being inherited /gifted/ through will, the cost of land shall be as per the DM circle rate on the date of application of registration of project in U.P. RERA. | C20: 0
B21: TOTAL OF LAND COST - For Project Estimation Purpose | C21: =SUM(C18:C20) -> 0
B22: (a.2) For Purpose of % Completion of the project and Withdrawal from Separate Account
B23: i - In case of acquisition through Purchase, the actual purchase price will be considered. | C23: 0 | D23: 0 | E23: 0 | F23: =D23+E23 -> 0
B24: ii- In case of acquisition through Joint Development Agreement, the actual cost incurred by the landowner or the value of the subject land at DM Circle Rate of the subject land on the date of application of registration in U.P. RERA, whichever is higher. | C24: 0 | D24: 0 | E24: 0 | F24: 0
B25: iii- In case of land being inherited /gifted/ through will, the cost of land shall be as per the DM circle rate on the date of application of registration of project in U.P. RERA. | C25: 0 | D25: 0 | E25: 0 | F25: 0
B26: TOTAL OF LAND COST - For % completion and withdrawal purpose | C26: =SUM(C23:C25) -> 0 | D26: =SUM(D23:D25) -> 0 | E26: =SUM(E23:E25) -> 0 | F26: =SUM(F23:F25) -> 0
B27: (b) Amount payable to obtain development rights, additional FAR and/or any other work under the provisions of Local Authority or State Government or Statutory Authority, if any; | C27: 0 | D27: 0 | E27: 0 | F27: =D27+E27 -> 0
B28: (c) Amounts payable to State Government or Competent Authority or any other statutory authority of the State or Central Government towards stamp duty, transfer charges, registration fees etc. (if not included in para (a) above); | C28: 0 | D28: 0 | E28: 0 | F28: =D28+E28 -> 0
B29: (d) Interest (Other than Penal Interest and Penalties etc.) on loan/ borrowing provided such loan/ borrowing has been utilised for purchase of land i) paid to Scheduled Banks ii) paid to others e.g. NBFC, Unsecured Loan(s)- this interest amount will be restricted at State Bank of India - Marginal cost of Fund based lending Rate (SBI -MCLR) iii) paid to the Competent Authority for acquisition of land | C29: 0 | D29: 0 | E29: 0 | F29: =D29+E29 -> 0
B30: TOTAL OF LAND COST
A31: 1A | B31: - For Project Estimation Purpose i.e. a.1+ b+c+d | C31: =SUM(C27:C29)+C21 -> 0
A32: 1B | B32: - For Withdrawal Purpose i.e. a.2+ b+c+d | C32: =SUM(C26:C29) -> 0 | D32: =SUM(D26:D29) -> 0 | E32: =SUM(E26:E29) -> 0 | F32: =SUM(F26:F29) -> 0
A33: 2 | B33: Project Clearance Fees (strictly related to construction and developmment of the this project)
B34: (a) Fees paid to RERA | C34: 0 | D34: 0 | E34: 0 | F34: =D34+E34 -> 0
B35: (b) Fees paid to Local Authority | C35: 0 | D35: 0 | E35: 0 | F35: =D35+E35 -> 0
B36: (c) Consultant/Architect Fees (directly attributable to project) | C36: 0 | D36: 0 | E36: 0 | F36: =D36+E36 -> 0
B37: (d) Other, if any attributable to project (specify) | C37: 0 | D37: 0 | E37: 0 | F37: =D37+E37 -> 0
B38: TOTAL OF FEES PAID | C38: =SUM(C34:C37) -> 0 | D38: =SUM(D34:D37) -> 0 | E38: =SUM(E34:E37) -> 0 | F38: =D38+E38 -> 0
A39: 3A | B39: Cost of Construction and Development
B40: (a) Cost of services (water, electricity to construction site) , Site Overheads; | C40: 0 | D40: 0 | E40: 0 | F40: =D40+E40 -> 0
B41: (b) b. Depreciation cost of machinery and equipment under the ownership of the promoter based on the actual use of such machinery or equipment in the relevant project, along with cost of maintenance, consumables, etc, as long as these cost are directly incurred on the construction of the said project. In case, the said machinery and equipment are used in more than one project only the apportioned amount of depreciation, the cost of maintenance and consumables shall be charged on the relevant project; | C41: 0 | D41: 0 | E41: 0 | F41: =D41+E41 -> 0
B42: (c) Hiring charges of the machinery and equipment on the basis of actual use in the relevant project
B43: (d) Cost of materials actually purchased; | C43: 0 | D43: 0 | E43: 0 | F43: =D43+E43 -> 0
B44: (e) Cost of Salary and Wages (excluding cost of salaries of employees of the company not directly attached to project); | C44: 0 | D44: 0 | E44: 0 | F44: =D44+E44 -> 0
...

Sheet Part B
A2: Form-REG-3
A3: CHARTERED ACCOUNTANT’S CERTIFICATE (On Letter Head)
A4: (To be submitted at the time of Registration of Project, Withdrawal of Money from Separate Account and Submission of Quarterly Progress Report)
A6: ='Part A'!A5 -> No. Date:-
A7: ='Part A'!A6 -> Information as on ___________
A10: ='Part A'!A8 -> Subject: Certificate of amount incurred for Construction and Development of the Project ____________ with registration number ___________situate in Khasra No/ Plot no ___________ demarcated by its boundaries (latitude-__________ and longitude-_________ of the end points) ____________ to the North __________to the South__________to the East__________to the West of __________Tehsil- __________Competent/Development authority_ ___________, District- _______PIN-__________admeasuring document area__________ s.q.mts. area being developed by ___________UPRERAPRM______ having Separate A/c No. ________ in _______ Bank.
A14: PART-B
A15: I/ We also certify that:
A16: Out of the amount reported in Column 6 of S No. 4B above:
A17: (a) | B17: Rs. _______ Lacs has been actually spent on the land, construction and development of the project and has not been spent on any item other than the purpose given in Section 4(2)(l)(d) and is, therefore, admissible for withdrawal from the Separate Account.
A18: (b) | B18: Rs. _______ Lacs is the amount for which bills/ invoices from the biller/ vendor/ contractor have been received for the work already rendered by them for the land, construction and development work of this project and being due for payment are, therefore, admissible for payment from the Separate Account directly to the biller/ vendor/ contractor in their bank account as per the list given below.
A19: (c) | B19: Rs. _______ Lacs is the amount pertaining to the refund to be made to the Allottees where allotted units have been cancelled in compliance of U.P. RERA orders for refund to the concerned allottee or for the reason of default by the concerned allottee as per the Agreement For Sale entered into with that allottee.
G20: (in Rs)
A21: S No. | B21: Name of the vendor/ contractor/ Allottee | C21: Amount due | D21: Amount due towards (detail of work) | E21: Bank Name | F21: IFSC | G21: Bank Account No.
A22: 1
A23: 2
A24: 3
A25: 4
A26: 5
A27: 6
A28: 7
A29: 8
A30: 9
A31: 10
A32: 11
A33: 12
... A45: 24
B46: Total | C46: =SUM(C22:C45) -> 0
A48: ='Part A'!A78 -> This certificate is being issued on specific request of ______________ (UPRERAPRM______) for UP RERA compliance. The certification is based on the information and records produced before us and is true to the best of our/my knowledge and belief.
A49: ='Part A'!A80 -> CA _________ M No. _________ _____________ (Chartered Accountants) Firm Registration Number _________ UDIN:
